BEGIN:VCALENDAR
VERSION:2.0
PRODID:-//ChamberMaster//Event Calendar 2.0//EN
METHOD:PUBLISH
X-PUBLISHED-TTL:P3D
REFRESH-INTERVAL:P3D
CALSCALE:GREGORIAN
BEGIN:VEVENT
DTSTART:20180416T190000Z
DTEND:20180416T193000Z
X-MICROSOFT-CDO-ALLDAYEVENT:FALSE
SUMMARY:Ribbon Cutting - Xcel Roofing
DESCRIPTION:We will give the official green coat welcome for new member\, Xcel Roofing.  Please join us for their Ribbon Cutting to be held at one of Xcel's project sites and get a first-hand look at their quality work.  With over 25 years of experience\, customer first warranties\, a commitment to the community and a focus on customer service\, Xcel is your choice for residential and commercial exteriors.
X-ALT-DESC;FMTTYPE=text/html:We will give the official green coat welcome for new member\, Xcel Roofing.&nbsp\; Please join us for their Ribbon Cutting to be held at one of Xcel&#39\;s project sites and get a first-hand look at their quality work.&nbsp\; With over 25 years of experience\, customer first warranties\, a commitment to the community and a focus on customer service\, Xcel is your choice for residential and commercial exteriors.
LOCATION:4425 Grayhawk Ridge Drive (ceremony will take place outside the property) Sioux City\, IA
UID:e.769.4705
SEQUENCE:3
DTSTAMP:20260420T133020Z
URL:https://directory.siouxlandchamber.com/events/details/ribbon-cutting-xcel-roofing-4705
END:VEVENT

END:VCALENDAR
