BEGIN:VCALENDAR
VERSION:2.0
PRODID:-//ChamberMaster//Event Calendar 2.0//EN
METHOD:PUBLISH
X-PUBLISHED-TTL:P3D
REFRESH-INTERVAL:P3D
CALSCALE:GREGORIAN
BEGIN:VEVENT
DTSTART:20170330T210000Z
DTEND:20170330T213000Z
X-MICROSOFT-CDO-ALLDAYEVENT:FALSE
SUMMARY:Ribbon Cutting - WinnaVegas Casino Resort
DESCRIPTION:Please join us in congratulating WinnaVegas on their 25th Anniversary when they  host a Chamber Ribbon Cutting followed by an Open House.
X-ALT-DESC;FMTTYPE=text/html:Please join us in congratulating WinnaVegas&nbsp\;on&nbsp\;their 25th&nbsp\;Anniversary when they &nbsp\;host a Chamber Ribbon Cutting followed by an Open House.&nbsp\;&nbsp\;&nbsp\;&nbsp\; &nbsp\;
LOCATION:1500 330th Street Sloan\, Iowa
UID:e.769.3421
SEQUENCE:3
DTSTAMP:20260419T200019Z
URL:https://directory.siouxlandchamber.com/events/details/ribbon-cutting-winnavegas-casino-resort-3421
END:VEVENT

END:VCALENDAR
