BEGIN:VCALENDAR
VERSION:2.0
PRODID:-//ChamberMaster//Event Calendar 2.0//EN
METHOD:PUBLISH
X-PUBLISHED-TTL:P3D
REFRESH-INTERVAL:P3D
CALSCALE:GREGORIAN
BEGIN:VEVENT
DTSTART:20160927T213000Z
DTEND:20160927T220000Z
X-MICROSOFT-CDO-ALLDAYEVENT:FALSE
SUMMARY:Ribbon Cutting - Windows America
DESCRIPTION:Windows America has moved to a new location and is celebrating with a ribbon cutting.  Whether you are looking for windows\, doors\, siding and more Windows America owners\, Amanda and Rob Beller\, along with their staff\, take pride in offering quality products at a fair price to families all across Siouxland.\n\n\n\nPlease join us and take a look at the new place and all Windows America has to offer and enjoy beverages and snacks following the ribbon cutting.
X-ALT-DESC;FMTTYPE=text/html:Windows America has moved to a new location and is celebrating with a ribbon cutting. &nbsp\;Whether you are looking for windows\, doors\, siding and more Windows America owners\, Amanda and Rob Beller\, along with their staff\, take pride in offering quality products at a fair price to families all across Siouxland.<br />\n<br />\nPlease join us and take a look at the new place and all Windows America has to offer and enjoy beverages and snacks following the ribbon cutting.
LOCATION:623 Water Street\, Suite A Sioux City
UID:e.769.3346
SEQUENCE:3
DTSTAMP:20260419T221903Z
URL:https://directory.siouxlandchamber.com/events/details/ribbon-cutting-windows-america-3346
END:VEVENT

END:VCALENDAR
