BEGIN:VCALENDAR
VERSION:2.0
PRODID:-//ChamberMaster//Event Calendar 2.0//EN
METHOD:PUBLISH
X-PUBLISHED-TTL:P3D
REFRESH-INTERVAL:P3D
CALSCALE:GREGORIAN
BEGIN:VEVENT
DTSTART:20180405T210000Z
DTEND:20180405T213000Z
X-MICROSOFT-CDO-ALLDAYEVENT:FALSE
SUMMARY:Ribbon Cutting - Whiskey Creek Insurance
DESCRIPTION:Whiskey Creek has moved to a new office\, just down the hall\, and will celebrate with a Ribbon Cutting followed by and Open House until 6:00 PM.  Whiskey Creek Insurance is an independent agency with first-hand knowledge and expertise to help other growers select insurance products that protect against risk and deliver peace of mind.  Please join us in congratulating them on their new location.
X-ALT-DESC;FMTTYPE=text/html:Whiskey Creek has moved to a new office\, just down the hall\, and will celebrate with a Ribbon Cutting followed by and Open House until 6:00 PM.&nbsp\; Whiskey Creek Insurance&nbsp\;is an independent agency&nbsp\;with first-hand knowledge and expertise to help other growers select insurance products that protect against risk and deliver peace of mind.&nbsp\; Please join us in congratulating them on their new location.
LOCATION:4301 Sergeant Road\, Ste 214 Sioux City\, IA
UID:e.769.4667
SEQUENCE:3
DTSTAMP:20260420T150004Z
URL:https://directory.siouxlandchamber.com/events/details/ribbon-cutting-whiskey-creek-insurance-4667
END:VEVENT

END:VCALENDAR
