BEGIN:VCALENDAR
VERSION:2.0
PRODID:-//ChamberMaster//Event Calendar 2.0//EN
METHOD:PUBLISH
X-PUBLISHED-TTL:P3D
REFRESH-INTERVAL:P3D
CALSCALE:GREGORIAN
BEGIN:VEVENT
DTSTART:20160621T210000Z
DTEND:20160621T213000Z
X-MICROSOFT-CDO-ALLDAYEVENT:FALSE
SUMMARY:Ribbon Cutting - Wendy's
DESCRIPTION:The Boyle Companies will be holding a Ribbon Cutting to celebrate the grand opening of their newly remodeled Wendy's Restaurant at the corner of W. 15th Street & Hamilton Blvd. A classic car show and photo booth will be part of the festivities!\n\n\n\n Please join us in congratulating Tim and Debbie Boyle and their staff on their growth and enjoy some food and refreshments.
X-ALT-DESC;FMTTYPE=text/html:The Boyle Companies will be holding a Ribbon Cutting to celebrate the grand opening of their newly remodeled Wendy&#39\;s Restaurant at the corner of W. 15th&nbsp\;Street &amp\; Hamilton Blvd. A classic car show and photo booth will be part of the festivities!<br />\n<br />\n&nbsp\;Please join us in congratulating Tim and Debbie Boyle and their staff on their growth and enjoy some food and refreshments.
LOCATION:301 West 15th Street Sioux City
UID:e.769.3284
SEQUENCE:3
DTSTAMP:20260421T174002Z
URL:https://directory.siouxlandchamber.com/events/details/ribbon-cutting-wendy-s-06-21-2016-3284
END:VEVENT

END:VCALENDAR
