BEGIN:VCALENDAR
VERSION:2.0
PRODID:-//ChamberMaster//Event Calendar 2.0//EN
METHOD:PUBLISH
X-PUBLISHED-TTL:P3D
REFRESH-INTERVAL:P3D
CALSCALE:GREGORIAN
BEGIN:VEVENT
DTSTART:20160729T150000Z
DTEND:20160729T153000Z
X-MICROSOFT-CDO-ALLDAYEVENT:FALSE
SUMMARY:Ribbon Cutting - Wall of Fame
DESCRIPTION:New Chamber member\, Wall of Fame is under new ownership!  To celebrate they will hold a ribbon cutting ceremony with refreshments following.\n\n\n\nWall of Fame specializes in screen printing\, embroidery\, sublimation\, trophy and awards\, and gift items that all bear the logo of your favorite school\, business or organization. They pride themselves with the\, "Best Quality for the Best Price". \n\n\n\nPlease join us in welcoming them to the Chamber and celebrating their new venture.
X-ALT-DESC;FMTTYPE=text/html:New Chamber member\, Wall of Fame is under new ownership! &nbsp\;To celebrate they will hold a ribbon cutting ceremony with refreshments following.<br />\n<br />\n<span style="font-family:tahoma\;"><span style="font-size: 14px\; line-height: 20px\; text-align: center\;">Wall of Fame specializes in screen printing\, embroidery\, sublimation\, trophy and awards\, and gift items that all bear the logo of your favorite school\, business or organization. They pride themselves with the\, &ldquo\;Best Quality for the Best Price&rdquo\;.&nbsp\;<br />\n<br />\nPlease join us in welcoming them to the Chamber and celebrating their new venture.</span></span><br />\n&nbsp\;
LOCATION:1501 Zenith Drive Sioux City
UID:e.769.3295
SEQUENCE:3
DTSTAMP:20260421T160255Z
URL:https://directory.siouxlandchamber.com/events/details/ribbon-cutting-wall-of-fame-07-29-2016-3295
END:VEVENT

END:VCALENDAR
