BEGIN:VCALENDAR
VERSION:2.0
PRODID:-//ChamberMaster//Event Calendar 2.0//EN
METHOD:PUBLISH
X-PUBLISHED-TTL:P3D
REFRESH-INTERVAL:P3D
CALSCALE:GREGORIAN
BEGIN:VEVENT
DTSTART:20161201T223000Z
DTEND:20161201T230000Z
X-MICROSOFT-CDO-ALLDAYEVENT:FALSE
SUMMARY:Ribbon Cutting - Wagner Ear\, Nose & Throat
DESCRIPTION:We will hold a ribbon cutting ceremony to welcome new Chamber member\, Wagner Ear\, Nose & Throat.  An open house with drinks and food catered by Aggies will follow the ribbon cutting.  Please plan on attending and join us to show our appreciation for Dr. Wagner and his staff for their support of the Siouxland Chamber.
X-ALT-DESC;FMTTYPE=text/html:We will hold a ribbon cutting ceremony to welcome new Chamber member\, Wagner Ear\, Nose &amp\; Throat. &nbsp\;An open house with drinks and food catered by Aggies will follow the ribbon cutting. &nbsp\;Please plan on attending and join us to show our appreciation for Dr. Wagner and his staff for their support of the Siouxland Chamber.
LOCATION:2730 Pierce Street\, Suite 204 Sioux City
UID:e.769.3329
SEQUENCE:3
DTSTAMP:20260419T151714Z
URL:https://directory.siouxlandchamber.com/events/details/ribbon-cutting-wagner-ear-nose-throat-3329
END:VEVENT

END:VCALENDAR
