BEGIN:VCALENDAR
VERSION:2.0
PRODID:-//ChamberMaster//Event Calendar 2.0//EN
METHOD:PUBLISH
X-PUBLISHED-TTL:P3D
REFRESH-INTERVAL:P3D
CALSCALE:GREGORIAN
BEGIN:VEVENT
DTSTART:20171030T213000Z
DTEND:20171030T220000Z
X-MICROSOFT-CDO-ALLDAYEVENT:FALSE
SUMMARY:Ribbon Cutting - Visiting Angels
DESCRIPTION:Visiting Angels will hold a Grand Opening at their new location on Floyd Boulevard.  A 4:30 Ribbon Cutting will kick things off with an Open House following until 6:00 PM.  Visiting Angels offers the care your loved one needs in the place you want\, their home. The Home Care and Life Care Navigation plan you set up with them provides for the emotional\, spiritual\, and physical needs of your loved one.  Please join us and meet Kristen and Jeff Hammerstrom to learn more about the services offered at Visiting Angels.
X-ALT-DESC;FMTTYPE=text/html:Visiting Angels will hold a Grand Opening at their new location on Floyd Boulevard. &nbsp\;A 4:30 Ribbon Cutting will kick things off with an Open House following until 6:00 PM. &nbsp\;Visiting Angels offers the care your loved one needs in the place you want\, their home. The Home Care and Life Care Navigation plan you set up with them provides for the emotional\, spiritual\, and physical needs of your loved one. &nbsp\;Please join&nbsp\;us and meet Kristen and Jeff Hammerstrom to learn more about the services offered at Visiting Angels. &nbsp\;
LOCATION:3133 Floyd Boulevard\, Sioux City
UID:e.769.4573
SEQUENCE:3
DTSTAMP:20260420T044036Z
URL:https://directory.siouxlandchamber.com/events/details/ribbon-cutting-visiting-angels-4573
END:VEVENT

END:VCALENDAR
