BEGIN:VCALENDAR
VERSION:2.0
PRODID:-//ChamberMaster//Event Calendar 2.0//EN
METHOD:PUBLISH
X-PUBLISHED-TTL:P3D
REFRESH-INTERVAL:P3D
CALSCALE:GREGORIAN
BEGIN:VEVENT
DTSTART:20191101T163000Z
DTEND:20191101T170000Z
X-MICROSOFT-CDO-ALLDAYEVENT:FALSE
SUMMARY:Ribbon Cutting - Vision Care Clinic\, PC
DESCRIPTION:Please join us in celebrating the new location for Siouxland Chamber member\, Vision Care Clinic\, PC with a Ribbon Cutting.
X-ALT-DESC;FMTTYPE=text/html:Please join us in celebrating the new location for Siouxland Chamber member\, Vision Care Clinic\, PC with a Ribbon Cutting.
LOCATION:1909 Hamilton Blvd Sioux City\, IA 51104
UID:e.769.5255
SEQUENCE:3
DTSTAMP:20260421T181400Z
URL:https://directory.siouxlandchamber.com/events/details/ribbon-cutting-vision-care-clinic-pc-5255
END:VEVENT

END:VCALENDAR
