BEGIN:VCALENDAR
VERSION:2.0
PRODID:-//ChamberMaster//Event Calendar 2.0//EN
METHOD:PUBLISH
X-PUBLISHED-TTL:P3D
REFRESH-INTERVAL:P3D
CALSCALE:GREGORIAN
BEGIN:VEVENT
DTSTART:20161205T223000Z
DTEND:20161205T230000Z
X-MICROSOFT-CDO-ALLDAYEVENT:FALSE
SUMMARY:Ribbon Cutting - Virginia Square\, Ho-Chunk Capital
DESCRIPTION:Members of the Siouxland Chamber and South Sioux City Chamber will conduct a ribbon cutting at the newest Ho-Chunk development in downtown Sioux City.  An Open House will follow the ribbon cutting until 7:00 with appetizers from SoHo and beverages.  Located at 100 Virginia street\, this 3 story building has both housing and commercial space.  We hope you can join us for the celebration and a first glimpse of the development.
X-ALT-DESC;FMTTYPE=text/html:<span style="font-size:12px\;"><span style="font-family:tahoma\;">Members of the Siouxland Chamber and South Sioux City Chamber will conduct a ribbon cutting at the newest Ho-Chunk development in downtown Sioux City. &nbsp\;An Open House will follow the ribbon cutting until 7:00 with appetizers from SoHo and beverages. &nbsp\;Located at 100 Virginia street\, this 3 story building has both housing and commercial space.&nbsp\; We hope you can join us for the celebration and a first glimpse of the development.</span></span>
LOCATION:100 Virginia Street Sioux City\, IA
UID:e.769.3414
SEQUENCE:3
DTSTAMP:20260419T134617Z
URL:https://directory.siouxlandchamber.com/events/details/ribbon-cutting-virginia-square-ho-chunk-capital-3414
END:VEVENT

END:VCALENDAR
