BEGIN:VCALENDAR
VERSION:2.0
PRODID:-//ChamberMaster//Event Calendar 2.0//EN
METHOD:PUBLISH
X-PUBLISHED-TTL:P3D
REFRESH-INTERVAL:P3D
CALSCALE:GREGORIAN
BEGIN:VEVENT
DTSTART:20170601T190000Z
DTEND:20170601T193000Z
X-MICROSOFT-CDO-ALLDAYEVENT:FALSE
SUMMARY:Ribbon Cutting - Village Cooperative of Sioux City
DESCRIPTION:Please join us in welcoming Village Cooperative to the Siouxland Chamber at their upcoming ribbon cutting.   Village Cooperative is a community of active adults\, 55+\, who want to live with other people their age\, but not in assisted living.  It offers maintenance-free living with all the benefits of home ownership and many unique amenities.
X-ALT-DESC;FMTTYPE=text/html:Please join us in welcoming Village Cooperative to the Siouxland&nbsp\;Chamber at their upcoming ribbon cutting. &nbsp\; Village Cooperative is a community of active adults\, 55+\, who want to live with other people their age\, but not in assisted living. &nbsp\;It offers maintenance-free living with all the benefits of home ownership and many unique amenities.
LOCATION:1400 Indian Hills Drive Sioux City\, IA
UID:e.769.3462
SEQUENCE:3
DTSTAMP:20260419T231025Z
URL:https://directory.siouxlandchamber.com/events/details/ribbon-cutting-village-cooperative-of-sioux-city-3462
END:VEVENT

END:VCALENDAR
