BEGIN:VCALENDAR
VERSION:2.0
PRODID:-//ChamberMaster//Event Calendar 2.0//EN
METHOD:PUBLISH
X-PUBLISHED-TTL:P3D
REFRESH-INTERVAL:P3D
CALSCALE:GREGORIAN
BEGIN:VEVENT
DTSTART:20181019T180000Z
DTEND:20181019T183000Z
X-MICROSOFT-CDO-ALLDAYEVENT:FALSE
SUMMARY:Ribbon Cutting - Vern Eide Honda SC
DESCRIPTION:Vern Eide Honda has recently completed major renovations and will celebrate their Grand Re-Opening the week of October 15th with a Ribbon Cutting being held on October 19th.  We hope you can join the celebration\, see the improvements including a Stone Bru Cafe right in the dealership\, and check out their inventory.\n\n\n\nHere are more of the Grand Re-opening festivities:\n\n\n\nPrize Giveaways   over $10\,000 in value\n\n	Come in daily to register.  Can register multiple days.\n	Pick which prize you're interested in or register for multiple\n	Must be present to win\, all drawings on Saturday 10/20\n	Each day will have a different number of registration forms.\n	\n		Hunting Trip for 2 to Lake's Lodge on Lake Byron in South Dakota\n		4 tickets to the Huskers vs Hawkeyes game in Iowa City on Nov 23\n		4 tickets to the Vikings vs Lions NFL game in Minneapolis on Nov 4\n		Spa Day including a Michael Kors bag\, manicure\, pedicure and 1 hr massage from Belle Salon\n		$500 shopping spree which is a Mastercard gift card that can be used anywhere Mastercard is accepted\n	\n	\n\nHands on a Honda\n\n\n	Giving away a 2018 Honda Civic\n	Contestants to keep their hand on the Honda the longest will win\n	Challenges will be given throughout the day to make a little harder to keep your hand in place\n	Bring your own chair\, food and drink\n	Register Monday   Friday at Vern Eide Honda during business hours\n	\n		Only 15 names will be drawn Friday at 5:00\n		Must have valid drivers license\, proof of insurance\, and credit approval
X-ALT-DESC;FMTTYPE=text/html:Vern Eide Honda has recently completed major renovations and will celebrate their Grand Re-Opening the week of October 15th with a Ribbon Cutting being held on October 19th.&nbsp\; We hope you can join the celebration\, see the improvements including a Stone Bru Cafe right in the dealership\, and check out their inventory.<br />\n<br />\nHere are more of the Grand Re-opening festivities:<br />\n<br />\n<strong>Prize Giveaways </strong>&ndash\; over $10\,000 in value\n<ul style="list-style-type:circle\;">\n	<li>Come in daily to register.&nbsp\; Can register multiple days.</li>\n	<li>Pick which prize you&rsquo\;re interested in or register for multiple</li>\n	<li>Must be present to win\, all drawings on Saturday 10/20</li>\n	<li>Each day will have a different number of registration forms.\n	<ul>\n		<li>Hunting Trip for 2 to Lake&rsquo\;s Lodge on Lake Byron in South Dakota</li>\n		<li>4 tickets to the Huskers vs Hawkeyes game in Iowa City on Nov 23</li>\n		<li>4 tickets to the Vikings vs Lions NFL game in Minneapolis on Nov 4</li>\n		<li>Spa Day including a Michael Kors bag\, manicure\, pedicure and 1 hr massage from Belle Salon</li>\n		<li>$500 shopping spree which is a Mastercard gift card that can be used anywhere Mastercard is accepted</li>\n	</ul>\n	</li>\n</ul>\n<strong>Hands on a Honda</strong>\n\n<ul style="list-style-type:circle\;">\n	<li>Giving away a 2018 Honda Civic</li>\n	<li>Contestants to keep their hand on the Honda the longest will win</li>\n	<li>Challenges will be given throughout the day to make a little harder to keep your hand in place</li>\n	<li>Bring your own chair\, food and drink</li>\n	<li>Register Monday &ndash\; Friday at Vern Eide Honda during business hours\n	<ul>\n		<li>Only 15 names will be drawn Friday at 5:00</li>\n		<li>Must have valid drivers license\, proof of insurance\, and credit approval</li>\n	</ul>\n	</li>\n</ul>\n
LOCATION:4625 Singing Hills Boulevard Sioux City\, IA
UID:e.769.4840
SEQUENCE:3
DTSTAMP:20260420T225007Z
URL:https://directory.siouxlandchamber.com/events/details/ribbon-cutting-vern-eide-honda-sc-4840
END:VEVENT

END:VCALENDAR
