BEGIN:VCALENDAR
VERSION:2.0
PRODID:-//ChamberMaster//Event Calendar 2.0//EN
METHOD:PUBLISH
X-PUBLISHED-TTL:P3D
REFRESH-INTERVAL:P3D
CALSCALE:GREGORIAN
BEGIN:VEVENT
DTSTART:20160812T170000Z
DTEND:20160812T173000Z
X-MICROSOFT-CDO-ALLDAYEVENT:FALSE
SUMMARY:Ribbon Cutting - Verizon Wireless World
DESCRIPTION:Verizon Wireless World will hold a ribbon cutting to celebrate their newly remodeled store on Hamilton Boulevard and kick off their customer appreciation weekend.  Food truck at the Hamilton store\, as well as promos\, drawings\, and a prize wheel will be part of the festivities available at both stores.\n\n\n\nThe Ribbon Cutting will be held at 2615 Hamilton Boulevard.\n\n\n\nCustomer Appreciation festivities will be at both locations\, 2615 Hamilton Boulevard & 4277 Sergeant Road.
X-ALT-DESC;FMTTYPE=text/html:Verizon Wireless World will hold a ribbon cutting to celebrate their newly remodeled store on Hamilton Boulevard and&nbsp\;kick off their customer appreciation weekend. &nbsp\;Food truck at the Hamilton store\, as well as promos\, drawings\, and a prize wheel will be part of the festivities available at both stores.<br />\n<br />\nThe Ribbon&nbsp\;Cutting will be held at 2615 Hamilton Boulevard.<br />\n<br />\nCustomer Appreciation festivities will be at both locations\, 2615 Hamilton Boulevard &amp\; 4277 Sergeant Road.
LOCATION:2615 Hamilton Boulevard Sioux City
UID:e.769.3301
SEQUENCE:3
DTSTAMP:20260421T143307Z
URL:https://directory.siouxlandchamber.com/events/details/ribbon-cutting-verizon-wireless-world-08-12-2016-3301
END:VEVENT

END:VCALENDAR
