BEGIN:VCALENDAR
VERSION:2.0
PRODID:-//ChamberMaster//Event Calendar 2.0//EN
METHOD:PUBLISH
X-PUBLISHED-TTL:P3D
REFRESH-INTERVAL:P3D
CALSCALE:GREGORIAN
BEGIN:VEVENT
DTSTART:20181015T213000Z
DTEND:20181015T220000Z
X-MICROSOFT-CDO-ALLDAYEVENT:FALSE
SUMMARY:Ribbon Cutting - V.I.P. Gymnastics\, Ninja & Cheer
DESCRIPTION:Welcome new member\, V.I.P. Gymnastics\, Ninja & Cheer.  For years they served Siouxland as the Superstar Tumblebus and now have opened a gymnastics palace and become new members of the Siouxland Chamber.  We hope you can join us for their ribbon cutting and see the over 21\,000 sq foot gym which houses 2 inground trampolines\, inground tumble trak\, 3 competitive sets of uneven bars\, 8 high balance beams\, a resi pit\, 2 spring floors\, a ninja obstacle course area\, 3 climbing ropes\, 3 inflatables\, and a separate preschool gym with age appropriate trampolines.  They are delighted to offer gymnastics\, ninja\, and cheer classes in the facility.
X-ALT-DESC;FMTTYPE=text/html:Welcome new member\, V.I.P. Gymnastics\, Ninja &amp\; Cheer.&nbsp\; For years they served Siouxland as the Superstar Tumblebus and now have&nbsp\;opened a gymnastics palace and become new members of the Siouxland Chamber.&nbsp\; We hope you can join us for their ribbon cutting and see the over 21\,000 sq foot gym which houses 2 inground trampolines\, inground tumble trak\, 3 competitive sets of uneven bars\, 8 high balance beams\, a resi pit\, 2 spring floors\, a ninja obstacle course area\, 3 climbing ropes\, 3 inflatables\, and a separate preschool gym with age appropriate trampolines.&nbsp\; They are delighted to offer gymnastics\, ninja\, and cheer classes in the facility.
LOCATION:300 Centennial Drive\, Suite 150 North Sioux City\, SD 57049
UID:e.769.4838
SEQUENCE:3
DTSTAMP:20260420T225430Z
URL:https://directory.siouxlandchamber.com/events/details/ribbon-cutting-v-i-p-gymnastics-ninja-cheer-4838
END:VEVENT

END:VCALENDAR
