BEGIN:VCALENDAR
VERSION:2.0
PRODID:-//ChamberMaster//Event Calendar 2.0//EN
METHOD:PUBLISH
X-PUBLISHED-TTL:P3D
REFRESH-INTERVAL:P3D
CALSCALE:GREGORIAN
BEGIN:VEVENT
DTSTART:20200402T150000Z
DTEND:20200402T153000Z
X-MICROSOFT-CDO-ALLDAYEVENT:FALSE
SUMMARY:Ribbon Cutting - US Cellular Sunnybrook - CANCELLED
DESCRIPTION:Please join us for a Ribbon Cutting celebrating new Siouxland Chamber of Commerce member\, US Cellular. Ribbon Cutting at the Hamilton location to follow at 11am.
X-ALT-DESC;FMTTYPE=text/html:Please join us for a Ribbon Cutting celebrating new Siouxland Chamber of Commerce member\, US Cellular. Ribbon Cutting at the Hamilton location to follow at 11am.
LOCATION:5832 Sunnybrook Drive Sioux City\, IA 51106
UID:e.769.5361
SEQUENCE:3
DTSTAMP:20260421T182143Z
URL:https://directory.siouxlandchamber.com/events/details/ribbon-cutting-us-cellular-sunnybrook-cancelled-5361
END:VEVENT

END:VCALENDAR
