BEGIN:VCALENDAR
VERSION:2.0
PRODID:-//ChamberMaster//Event Calendar 2.0//EN
METHOD:PUBLISH
X-PUBLISHED-TTL:P3D
REFRESH-INTERVAL:P3D
CALSCALE:GREGORIAN
BEGIN:VEVENT
DTSTART:20171003T190000Z
DTEND:20171003T193000Z
X-MICROSOFT-CDO-ALLDAYEVENT:FALSE
SUMMARY:Ribbon Cutting - UnityPoint St. Luke's Children's Miracle Network
DESCRIPTION:UnityPoint Health St. Luke's Children's Miracle Network is proud to dedicate its newest pediatric theme room\, thanks to the generosity of CMBA Architects.  This room is all about inspiring little hands and letting the patient become the designer.  Complete with multiple hands-on activities\, the room is created to keep patients (and their siblings!) active and help them forget they are staying in a hospital.  Please join them as they dedicate this room that may just inspire you too!
X-ALT-DESC;FMTTYPE=text/html:UnityPoint Health St. Luke&#39\;s Children&#39\;s Miracle Network is proud to dedicate its newest pediatric theme room\, thanks to the generosity of CMBA Architects. &nbsp\;This room is all about inspiring little hands and letting the patient become the designer. &nbsp\;Complete with multiple hands-on activities\, the room is created to keep patients (and their siblings!) active and help them forget they are staying in a hospital. &nbsp\;Please join them as they dedicate this room that may just inspire you too!
LOCATION:UnityPoint Health - St. Luke's Room 458 2720 Stone Park Blvd\, Sioux City
UID:e.769.4572
SEQUENCE:3
DTSTAMP:20260420T044336Z
URL:https://directory.siouxlandchamber.com/events/details/ribbon-cutting-unitypoint-st-luke-s-children-s-miracle-network-4572
END:VEVENT

END:VCALENDAR
