BEGIN:VCALENDAR
VERSION:2.0
PRODID:-//ChamberMaster//Event Calendar 2.0//EN
METHOD:PUBLISH
X-PUBLISHED-TTL:P3D
REFRESH-INTERVAL:P3D
CALSCALE:GREGORIAN
BEGIN:VEVENT
DTSTART:20160823T190000Z
DTEND:20160823T193000Z
X-MICROSOFT-CDO-ALLDAYEVENT:FALSE
SUMMARY:Ribbon Cutting - UnityPoint-St. Luke's\, Children's Miracle Network
DESCRIPTION:UnityPoint will host a Chamber ribbon cutting and dedication for the newest Children's Miracle Network's themed pediatric room made possible through the generosity of Wells Enterprises.  Patients staying in the Blue Bunny Treehouse themed room will get to spend some time with the Blue Bunny and his animal friends in the brightly colored space.  Please join us for the unveiling and dedication and to thank representatives from Well's Enterprises for their wonderful gift.
X-ALT-DESC;FMTTYPE=text/html:UnityPoint will host a Chamber ribbon cutting and dedication for the newest Children&rsquo\;s Miracle Network&rsquo\;s themed pediatric room made possible through the generosity of Wells Enterprises.&nbsp\; Patients staying in the Blue Bunny Treehouse themed room will get to spend some time with the Blue Bunny and his animal friends in the brightly colored space. &nbsp\;Please join us for the unveiling and dedication and to thank representatives from Well&#39\;s Enterprises for their wonderful gift.
LOCATION:UnityPoint-St. Luke's Hospital 2720 Stone Park Boulevard 4th Floor\, Room 444
UID:e.769.3323
SEQUENCE:3
DTSTAMP:20260421T143354Z
URL:https://directory.siouxlandchamber.com/events/details/ribbon-cutting-unitypoint-st-luke-s-children-s-miracle-network-08-23-2016-3323
END:VEVENT

END:VCALENDAR
