BEGIN:VCALENDAR
VERSION:2.0
PRODID:-//ChamberMaster//Event Calendar 2.0//EN
METHOD:PUBLISH
X-PUBLISHED-TTL:P3D
REFRESH-INTERVAL:P3D
CALSCALE:GREGORIAN
BEGIN:VEVENT
DTSTART:20160726T133000Z
DTEND:20160726T140000Z
X-MICROSOFT-CDO-ALLDAYEVENT:FALSE
SUMMARY:Ribbon Cutting - UnityPoint-St. Luke's\, Children's Miracle Network
DESCRIPTION:"Let's Go On An Adventure" is the theme of the new rustic pediatric room made possible with the help of Scheels.  The Children's Miracle Network will do a ribbon cutting to officially open the room at UnityPoint-St Luke's and will include a prayer of dedication for all the patients who will stay in the room.
X-ALT-DESC;FMTTYPE=text/html:<span style="font-size:14px\;"><span style="font-family:arial\;">&quot\;Let&#39\;s Go On An Adventure&quot\; is the theme of the new rustic pediatric room made possible with the help of Scheels. &nbsp\;The&nbsp\;Children&rsquo\;s Miracle Network will do a ribbon cutting to officially open the room&nbsp\;at&nbsp\;UnityPoint-St Luke&rsquo\;s and will include a prayer of dedication for all the patients who will stay in the room. &nbsp\;</span></span>
LOCATION:UnityPoint-St. Luke's Hospital 2720 Stone Park Boulevard Room 444
UID:e.769.3302
SEQUENCE:3
DTSTAMP:20260421T155952Z
URL:https://directory.siouxlandchamber.com/events/details/ribbon-cutting-unitypoint-st-luke-s-children-s-miracle-network-07-26-2016-3302
END:VEVENT

END:VCALENDAR
