BEGIN:VCALENDAR
VERSION:2.0
PRODID:-//ChamberMaster//Event Calendar 2.0//EN
METHOD:PUBLISH
X-PUBLISHED-TTL:P3D
REFRESH-INTERVAL:P3D
CALSCALE:GREGORIAN
BEGIN:VEVENT
DTSTART:20170612T220000Z
DTEND:20170612T223000Z
X-MICROSOFT-CDO-ALLDAYEVENT:FALSE
SUMMARY:Ribbon Cutting - UnityPoint Health St. Luke's Children's Miracle Network
DESCRIPTION:UnityPoint Health St. Luke's Children's Miracle Network is proud to dedicate its newest pediatric theme room\, thanks to the generosity of Sioux Honey Association. This room\, affectionately referred to as the "Bee Well Room"\, gives patients primarily age 2 and under a sweet and serene environment for healing. This room also provides family members with all the comforts of home\, allowing them to be relaxed and focus on their baby's recovery. Please join us to see this room that offers great attention to detail and an appreciation for the pollinators who always find a sweet ending.
X-ALT-DESC;FMTTYPE=text/html:UnityPoint Health St. Luke&#39\;s Children&#39\;s Miracle Network is proud to dedicate its newest pediatric theme room\, thanks to the generosity of Sioux Honey Association. This room\, affectionately referred to as the &quot\;Bee Well Room&quot\;\, gives patients primarily age 2 and under a sweet and serene environment for healing. This room also provides family members with all the comforts of home\, allowing them to be relaxed and focus on their baby&#39\;s recovery. Please join us to see this room that offers great attention to detail and an appreciation for the pollinators who always find a sweet ending. &nbsp\;
LOCATION:UnityPoint Health St. Luke's Room 440
UID:e.769.3499
SEQUENCE:3
DTSTAMP:20260419T230815Z
URL:https://directory.siouxlandchamber.com/events/details/ribbon-cutting-unitypoint-health-st-luke-s-children-s-miracle-network-3499
END:VEVENT

END:VCALENDAR
