BEGIN:VCALENDAR
VERSION:2.0
PRODID:-//ChamberMaster//Event Calendar 2.0//EN
METHOD:PUBLISH
X-PUBLISHED-TTL:P3D
REFRESH-INTERVAL:P3D
CALSCALE:GREGORIAN
BEGIN:VEVENT
DTSTART:20191205T223000Z
DTEND:20191205T230000Z
X-MICROSOFT-CDO-ALLDAYEVENT:FALSE
SUMMARY:Ribbon Cutting - United Sports Academy
DESCRIPTION:Please join us in celebrating Siouxland Chamber member\, United Sports Academy with a Ribbon Cutting.
X-ALT-DESC;FMTTYPE=text/html:Please join us in celebrating Siouxland Chamber member\, United Sports Academy with a Ribbon Cutting.&nbsp\;
LOCATION:300 Centennial Drive North Sioux City\, SD 57049
UID:e.769.5266
SEQUENCE:3
DTSTAMP:20260421T195054Z
URL:https://directory.siouxlandchamber.com/events/details/ribbon-cutting-united-sports-academy-5266
END:VEVENT

END:VCALENDAR
