BEGIN:VCALENDAR
VERSION:2.0
PRODID:-//ChamberMaster//Event Calendar 2.0//EN
METHOD:PUBLISH
X-PUBLISHED-TTL:P3D
REFRESH-INTERVAL:P3D
CALSCALE:GREGORIAN
BEGIN:VEVENT
DTSTART:20171116T160000Z
DTEND:20171116T163000Z
X-MICROSOFT-CDO-ALLDAYEVENT:FALSE
SUMMARY:Ribbon Cutting - United Real Estate Solutions & NAI United
DESCRIPTION:After months of planning and construction\, United Real Estate Solutions officially has a new branch office and headquarters for its commercial division\, NAI United\, in Dakota Dunes\, South Dakota! Located on the first floor of 400 Gold Circle\, the high-tech\, caf  style office becomes the third location for Siouxland's leading real estate company\, offering incredible convenience for clients and United's great team of agents. Please stop by to check it out and visit with their friendly sales associates when they host the Dakota Valley Business Council Coffee from 9:30-10:30 AM with a 10:00 AM ribbon cutting.
X-ALT-DESC;FMTTYPE=text/html:<span style="color: rgb(29\, 33\, 41)\; font-family: Helvetica\, Arial\, sans-serif\; font-size: 14px\; background-color: rgb(255\, 255\, 255)\;">After months of planning and construction\, United Real Estate Solutions officially has a new branch office and headquarters for its commercial division\, NAI United\,&nbsp\;in Dakota Dunes\, South Dakota! Located on the first floor of 400 Gold Circle\, the high-tech\, caf&eacute\; style office becomes the third location for Siouxland&rsquo\;s leading real estate company\, offering incredible convenience for&nbsp\;clients and United&rsquo\;s great team of agents. Please stop by to check it out and visit with their friendly sales associates when they host the Dakota Valley Business Council Coffee from 9:30-10:30 AM with a 10:00 AM ribbon cutting.&nbsp\;&nbsp\;</span>
LOCATION:400 Gold Circle Dakota Dunes\, SD
UID:e.769.4597
SEQUENCE:3
DTSTAMP:20260420T061814Z
URL:https://directory.siouxlandchamber.com/events/details/ribbon-cutting-united-real-estate-solutions-nai-united-4597
END:VEVENT

END:VCALENDAR
