BEGIN:VCALENDAR
VERSION:2.0
PRODID:-//ChamberMaster//Event Calendar 2.0//EN
METHOD:PUBLISH
X-PUBLISHED-TTL:P3D
REFRESH-INTERVAL:P3D
CALSCALE:GREGORIAN
BEGIN:VEVENT
DTSTART:20161211T000000Z
DTEND:20161211T003000Z
X-MICROSOFT-CDO-ALLDAYEVENT:FALSE
SUMMARY:Ribbon cutting - U Drive Acceptance Corp.
DESCRIPTION:New member\, U Drive Acceptance Corp. will hold a Chamber ribbon cutting to kick off their Grand Opening celebration.  Formerly a buy-here\, pay-here lender for one dealership\, U Drive is transitioning to a fully indirect auto lender and invite you to come hear more.  Please join them for wine and hors d'oeuvres following the ribbon cutting.
X-ALT-DESC;FMTTYPE=text/html:New member\, U Drive Acceptance Corp. will hold a Chamber ribbon cutting to kick off their Grand Opening celebration. &nbsp\;Formerly a buy-here\, pay-here lender for one dealership\, U Drive is transitioning to a fully indirect auto lender and invite you to come hear more. &nbsp\;Please join them for wine and hors d&#39\;oeuvres following the ribbon cutting.&nbsp\;&nbsp\;&nbsp\;&nbsp\;&nbsp\;&nbsp\;&nbsp\;&nbsp\;&nbsp\;&nbsp\;&nbsp\;&nbsp\;&nbsp\;&nbsp\;&nbsp\;&nbsp\;
LOCATION:1119 4th Street\, Suite 102 Sioux City
UID:e.769.3420
SEQUENCE:3
DTSTAMP:20260419T134201Z
URL:https://directory.siouxlandchamber.com/events/details/ribbon-cutting-u-drive-acceptance-corp-3420
END:VEVENT

END:VCALENDAR
