BEGIN:VCALENDAR
VERSION:2.0
PRODID:-//ChamberMaster//Event Calendar 2.0//EN
METHOD:PUBLISH
X-PUBLISHED-TTL:P3D
REFRESH-INTERVAL:P3D
CALSCALE:GREGORIAN
BEGIN:VEVENT
DTSTART:20190930T170000Z
DTEND:20190930T173000Z
X-MICROSOFT-CDO-ALLDAYEVENT:FALSE
SUMMARY:Ribbon Cutting - Tyson Event Center
DESCRIPTION:Please join us in celebrating a Ribbon Cutting at the Tyson Event Center. They will be unveiling the new naming rights to the arena.
X-ALT-DESC;FMTTYPE=text/html:Please join us in celebrating a Ribbon Cutting at the Tyson Event Center. They will be unveiling the new naming rights to the arena.
LOCATION:Tyson Event Center 401 Gordon Drive Sioux City\, IA 51101
UID:e.769.5205
SEQUENCE:3
DTSTAMP:20260421T151656Z
URL:https://directory.siouxlandchamber.com/events/details/ribbon-cutting-tyson-event-center-5205
END:VEVENT

END:VCALENDAR
