BEGIN:VCALENDAR
VERSION:2.0
PRODID:-//ChamberMaster//Event Calendar 2.0//EN
METHOD:PUBLISH
X-PUBLISHED-TTL:P3D
REFRESH-INTERVAL:P3D
CALSCALE:GREGORIAN
BEGIN:VEVENT
DTSTART:20180712T213000Z
DTEND:20180712T220000Z
X-MICROSOFT-CDO-ALLDAYEVENT:FALSE
SUMMARY:Ribbon Cutting - Tucker Hill Vineyards
DESCRIPTION:Please join us in celebrating new member\, Tucker Hill Vineyards when they host a ribbon cutting followed by wine and appetizers.  Along with the vineyards\, the winery consists of a tasting room and processing area along with an event room where they host a variety of events such as bridal showers\, baby showers\, prenuptial dinners\, weddings\, graduations\, family reunions\, and corporate events.  With a variety of wines available\, you are sure to find something you like.
X-ALT-DESC;FMTTYPE=text/html:Please join us in celebrating new member\, Tucker Hill Vineyards when they host a ribbon cutting followed by wine and appetizers.&nbsp\; Along with the vineyards\, the winery consists of a tasting room and processing area along with an event room where they host a variety of events such as bridal showers\, baby showers\, prenuptial dinners\, weddings\, graduations\, family reunions\, and corporate events.&nbsp\; With a variety of wines available\, you are sure to find something you like.
LOCATION:26001 Titan Road Hinton\, IA From Hwy 75\, turn west at Pinnacle Bank onto Titan Road and follow the road up the hill.
UID:e.769.4733
SEQUENCE:3
DTSTAMP:20260420T180429Z
URL:https://directory.siouxlandchamber.com/events/details/ribbon-cutting-tucker-hill-vineyards-4733
END:VEVENT

END:VCALENDAR
