BEGIN:VCALENDAR
VERSION:2.0
PRODID:-//ChamberMaster//Event Calendar 2.0//EN
METHOD:PUBLISH
X-PUBLISHED-TTL:P3D
REFRESH-INTERVAL:P3D
CALSCALE:GREGORIAN
BEGIN:VEVENT
DTSTART:20160329T210000Z
DTEND:20160329T213000Z
X-MICROSOFT-CDO-ALLDAYEVENT:FALSE
SUMMARY:Ribbon Cutting TRN Settlement Services
DESCRIPTION:Please join us in celebrating TRN Settlement Services' new location at their upcoming Ribbon Cutting and Open House.  They are excited to be a part of transforming an old tire store building into the great office space they now have - double the size with room to grow.
X-ALT-DESC;FMTTYPE=text/html:Please join us in celebrating&nbsp\;TRN Settlement Services&#39\; new location at their upcoming&nbsp\;Ribbon Cutting and Open House. &nbsp\;They are excited to be a part of transforming an old tire store building into the great office space they now have - double the size with room to grow.
LOCATION:617 5th Street Sioux City
UID:e.769.3222
SEQUENCE:3
DTSTAMP:20260421T201343Z
URL:https://directory.siouxlandchamber.com/events/details/ribbon-cutting-trn-settlement-services-03-29-2016-3222
END:VEVENT

END:VCALENDAR
