BEGIN:VCALENDAR
VERSION:2.0
PRODID:-//ChamberMaster//Event Calendar 2.0//EN
METHOD:PUBLISH
X-PUBLISHED-TTL:P3D
REFRESH-INTERVAL:P3D
CALSCALE:GREGORIAN
BEGIN:VEVENT
DTSTART:20171109T223000Z
DTEND:20171110T003000Z
X-MICROSOFT-CDO-ALLDAYEVENT:FALSE
SUMMARY:Ribbon Cutting - Trinity Electrical Services
DESCRIPTION:Join us in congratulating Trinity Electrical Services on their new location at their upcoming Ribbon Cutting with the Siouxland Chamber and South Sioux City Chamber.  An Open House will follow with drinks and appetizers until 6:30 PM.  Trinity Electrical provides the highest quality commercial\, industrial\, residential\, and sustainable electrical work with integrity.  Integrity in prices\, integrity in how they treat you\, and integrity with workmanship.
X-ALT-DESC;FMTTYPE=text/html:Join us in congratulating Trinity Electrical Services on their new location at their upcoming Ribbon Cutting with the Siouxland&nbsp\;Chamber and South Sioux City Chamber. &nbsp\;An&nbsp\;Open House will follow with drinks and appetizers until 6:30 PM. &nbsp\;Trinity Electrical provides the highest quality commercial\, industrial\, residential\, and sustainable electrical work with integrity. &nbsp\;Integrity in prices\, integrity in how they treat you\, and integrity with workmanship.
LOCATION:516 S Flynn Street North Sioux City\, SD
UID:e.769.4578
SEQUENCE:3
DTSTAMP:20260420T061224Z
URL:https://directory.siouxlandchamber.com/events/details/ribbon-cutting-trinity-electrical-services-4578
END:VEVENT

END:VCALENDAR
