BEGIN:VCALENDAR
VERSION:2.0
PRODID:-//ChamberMaster//Event Calendar 2.0//EN
METHOD:PUBLISH
X-PUBLISHED-TTL:P3D
REFRESH-INTERVAL:P3D
CALSCALE:GREGORIAN
BEGIN:VEVENT
DTSTART:20160608T160000Z
DTEND:20160608T163000Z
X-MICROSOFT-CDO-ALLDAYEVENT:FALSE
SUMMARY:Ribbon Cutting - Transformational Leadership and Coaching
DESCRIPTION:New Chamber member Transformational Leadership and Coaching will celebrate their grand opening with a ribbon cutting ceremony to be held at the Chamber of Commerce.  Help us congratulate Jill Miller as she embarks on a mission to help others explore ways to achieve personal and professional growth that will elevate their team's effectiveness and efficiency.
X-ALT-DESC;FMTTYPE=text/html:New Chamber member Transformational Leadership and Coaching will celebrate their grand opening with a ribbon cutting ceremony to be held at the Chamber of Commerce. &nbsp\;Help us congratulate Jill Miller as she embarks on a mission to help others explore ways to achieve personal and professional growth that will elevate their team&#39\;s effectiveness and efficiency.
LOCATION:Siouxland Chamber of Commerce 101 Pierce
UID:e.769.3285
SEQUENCE:3
DTSTAMP:20260421T173904Z
URL:https://directory.siouxlandchamber.com/events/details/ribbon-cutting-transformational-leadership-and-coaching-06-08-2016-3285
END:VEVENT

END:VCALENDAR
