BEGIN:VCALENDAR
VERSION:2.0
PRODID:-//ChamberMaster//Event Calendar 2.0//EN
METHOD:PUBLISH
X-PUBLISHED-TTL:P3D
REFRESH-INTERVAL:P3D
CALSCALE:GREGORIAN
BEGIN:VEVENT
DTSTART:20200304T160000Z
DTEND:20200304T163000Z
X-MICROSOFT-CDO-ALLDAYEVENT:FALSE
SUMMARY:Ribbon Cutting - THRIVE Fitness
DESCRIPTION:Please join us for a Ribbon Cutting celebrating the new location of Siouxland Chamber member\, Thrive Fitness.
X-ALT-DESC;FMTTYPE=text/html:Please join us for a Ribbon Cutting celebrating the new location of Siouxland Chamber member\, Thrive Fitness.
LOCATION:116 Gateway Drive North Sioux City\, SD 57049
UID:e.769.5328
SEQUENCE:3
DTSTAMP:20260421T194920Z
URL:https://directory.siouxlandchamber.com/events/details/ribbon-cutting-thrive-fitness-5328
END:VEVENT

END:VCALENDAR
