BEGIN:VCALENDAR
VERSION:2.0
PRODID:-//ChamberMaster//Event Calendar 2.0//EN
METHOD:PUBLISH
X-PUBLISHED-TTL:P3D
REFRESH-INTERVAL:P3D
CALSCALE:GREGORIAN
BEGIN:VEVENT
DTSTART:20230126T220000Z
DTEND:20230126T223000Z
X-MICROSOFT-CDO-ALLDAYEVENT:FALSE
SUMMARY:Ribbon Cutting - Thompson Solutions
DESCRIPTION:Interstate Mechanical Corp\, Interstate Metal Specialists\, and Thompson are excited to announce the merger of their companies into one. This strategic merger proudly forms Thompson Solutions Group effective 1/1/2023. \n\n\n\nThompson Solutions Group is a full-service HVAC\, mechanical\, electrical\, plumbing\, and technology company offering multi-trade expertise. Joining forces as one company\, they are now able to offer a broad suite of services\, products\, and opportunities to better serve their customers\, employees\, and the communities they serve. \n\n\n\nAn open house will follow the ribbon cutting at Thompson from 4-5PM and then the Interstates office located at 1900 4th Street Sioux City\, IA 51101 will be open from 5-6PM.
X-ALT-DESC;FMTTYPE=text/html:<span style="color:black\;">Interstate Mechanical Corp\, Interstate Metal Specialists\, and Thompson are excited to announce the merger of their companies into one. This strategic merger proudly forms Thompson Solutions Group effective 1/1/2023.&nbsp\;</span><br />\n<br />\n<span style="color:black\;">Thompson Solutions Group is a full-service HVAC\, mechanical\, electrical\, plumbing\, and technology company offering multi-trade expertise. Joining forces as one company\, they are now able to offer a broad suite of services\, products\, and opportunities to better serve their customers\, employees\, and the communities they serve.&nbsp\;<br />\n<br />\nAn open house will follow the ribbon cutting at Thompson from 4-5PM and then the Interstates office located at 1900 4th Street Sioux City\, IA 51101 will be open from 5-6PM.&nbsp\;</span>
LOCATION:2300 7th Street Sioux City\, IA
UID:e.769.5933
SEQUENCE:3
DTSTAMP:20260419T164244Z
URL:https://directory.siouxlandchamber.com/events/details/ribbon-cutting-thompson-solutions-5933
END:VEVENT

END:VCALENDAR
