BEGIN:VCALENDAR
VERSION:2.0
PRODID:-//ChamberMaster//Event Calendar 2.0//EN
METHOD:PUBLISH
X-PUBLISHED-TTL:P3D
REFRESH-INTERVAL:P3D
CALSCALE:GREGORIAN
BEGIN:VEVENT
DTSTART:20220805T210000Z
DTEND:20220805T213000Z
X-MICROSOFT-CDO-ALLDAYEVENT:FALSE
SUMMARY:Ribbon Cutting - Thermo Bond Buildings
DESCRIPTION:Join us in celebrating Thermo Bond's new production facility in Elk Point\, SD.
X-ALT-DESC;FMTTYPE=text/html:Join us in celebrating Thermo Bond&#39\;s new production facility in Elk Point\, SD.
LOCATION:1103 West Main Street Elk Point\, SD 57025
UID:e.769.5832
SEQUENCE:3
DTSTAMP:20260420T003315Z
URL:https://directory.siouxlandchamber.com/events/details/ribbon-cutting-thermo-bond-buildings-5832
END:VEVENT

END:VCALENDAR
