BEGIN:VCALENDAR
VERSION:2.0
PRODID:-//ChamberMaster//Event Calendar 2.0//EN
METHOD:PUBLISH
X-PUBLISHED-TTL:P3D
REFRESH-INTERVAL:P3D
CALSCALE:GREGORIAN
BEGIN:VEVENT
DTSTART:20170515T221500Z
DTEND:20170515T223000Z
X-MICROSOFT-CDO-ALLDAYEVENT:FALSE
SUMMARY:Ribbon Cutting - The Yoga College
DESCRIPTION:We will welcome new member\, The Yoga College\, to the Chamber with a ribbon cutting ceremony.  Connie Reynolds\, Master of Yoga Education opened The Yoga College 17 years ago and is now Sioux City's premier yoga and belly dance instructor who takes pride in revealing the true personal power in each client.  Massage Therapy is also available.
X-ALT-DESC;FMTTYPE=text/html:We will welcome new member\, The Yoga College\, to the Chamber with a ribbon cutting ceremony. &nbsp\;Connie Reynolds\, Master of Yoga Education opened The Yoga College 17 years ago and is now Sioux City&#39\;s premier yoga and belly dance instructor who takes pride in revealing the true personal power in each client. &nbsp\;Massage Therapy is also available.
LOCATION:Commerce Building 520 Nebraska Street\, Suite 201 Sioux City
UID:e.769.3478
SEQUENCE:3
DTSTAMP:20260419T214804Z
URL:https://directory.siouxlandchamber.com/events/details/ribbon-cutting-the-yoga-college-3478
END:VEVENT

END:VCALENDAR
