BEGIN:VCALENDAR
VERSION:2.0
PRODID:-//ChamberMaster//Event Calendar 2.0//EN
METHOD:PUBLISH
X-PUBLISHED-TTL:P3D
REFRESH-INTERVAL:P3D
CALSCALE:GREGORIAN
BEGIN:VEVENT
DTSTART:20191108T220000Z
DTEND:20191108T223000Z
X-MICROSOFT-CDO-ALLDAYEVENT:FALSE
SUMMARY:Ribbon Cutting - The Wax Room
DESCRIPTION:Please join us in celebrating new Siouxland Chamber member\, The Wax Room\, with a Ribbon Cutting! The Ribbon Cutting will take place at 4:00pm with an open house to follow until 7:00pm.
X-ALT-DESC;FMTTYPE=text/html:Please join us in celebrating new Siouxland Chamber member\, The Wax Room\, with a Ribbon Cutting! The Ribbon Cutting will take place at 4:00pm with an open house to follow until 7:00pm.
LOCATION:819B Gordon Drive Sioux City\, IA 51101
UID:e.769.5223
SEQUENCE:3
DTSTAMP:20260421T194106Z
URL:https://directory.siouxlandchamber.com/events/details/ribbon-cutting-the-wax-room-5223
END:VEVENT

END:VCALENDAR
