BEGIN:VCALENDAR
VERSION:2.0
PRODID:-//ChamberMaster//Event Calendar 2.0//EN
METHOD:PUBLISH
X-PUBLISHED-TTL:P3D
REFRESH-INTERVAL:P3D
CALSCALE:GREGORIAN
BEGIN:VEVENT
DTSTART:20161012T160000Z
DTEND:20161012T163000Z
X-MICROSOFT-CDO-ALLDAYEVENT:FALSE
SUMMARY:Ribbon Cutting - The Summit at Sunnybrook Village
DESCRIPTION:The Siouxland Chamber will hold a ribbon cutting to celebrate new member and new business\, The Summit at Sunnybrook Village.  This is your opportunity to get a look at Sioux City's newest pet-friendly apartment community - where luxury meets convenience.  The Summit features a clubhouse with an inviting fireplace and a resort-style swimming pool for entertainment. Also\, tenants can enjoy a complimentary tanning bed and a state-of-the-art fitness center to energize their mornings.\n\n\n\nFollowing the ceremony beverages and food will be served and you will have a chance to view the property.
X-ALT-DESC;FMTTYPE=text/html:<p><span style="font-size:12px\;"><span style="font-family:arial\;">The Siouxland Chamber will hold a ribbon cutting to celebrate new member and new business\, The Summit at Sunnybrook Village.&nbsp\; This is your opportunity to get a look at Sioux City&rsquo\;s newest pet-friendly apartment community -&nbsp\;where luxury meets convenience.&nbsp\; The Summit features a clubhouse with an inviting fireplace and a resort-style swimming pool for entertainment. Also\, tenants can enjoy a complimentary tanning bed and a state-of-the-art fitness center to energize their mornings.<br />\n<br />\nFollowing the ceremony beverages and food will be served and you will have a chance to view the property.</span></span></p>\n
LOCATION:5701 Christy Road\, #9000 (Clubhouse) Sioux City
UID:e.769.3331
SEQUENCE:3
DTSTAMP:20260421T114650Z
URL:https://directory.siouxlandchamber.com/events/details/ribbon-cutting-the-summit-at-sunnybrook-village-3331
END:VEVENT

END:VCALENDAR
