BEGIN:VCALENDAR
VERSION:2.0
PRODID:-//ChamberMaster//Event Calendar 2.0//EN
METHOD:PUBLISH
X-PUBLISHED-TTL:P3D
REFRESH-INTERVAL:P3D
CALSCALE:GREGORIAN
BEGIN:VEVENT
DTSTART:20161110T160000Z
DTEND:20161110T163000Z
X-MICROSOFT-CDO-ALLDAYEVENT:FALSE
SUMMARY:Ribbon Cutting - The Siouxland Optimist Club
DESCRIPTION:We will be having a ribbon cutting to welcome the newly formed Siouxland Optimist Club to the Chamber.  A friend of youth\, the Optimist Club works each day to make the future brighter by bringing out the best in children\, in their communities\, and in themselves.  The ceremony will take place at the Boys and Girls Club of Siouxland\, one of the Optimist Club's partners.  Following the ribbon cutting refreshments will be served and you will have the opportunity to see all the good happening at the Boys and Girls Club.
X-ALT-DESC;FMTTYPE=text/html:<span style="font-family:arial narrow\,sans-serif\;">We will be having a ribbon cutting to welcome the newly formed Siouxland Optimist Club to the Chamber. &nbsp\;A friend of youth\, the Optimist Club</span> <span style="font-family:arial narrow\,sans-serif\;">works each day to make the future brighter by bringing out the best in children\, in their communities\, and in themselves.&nbsp\; The ceremony will take place at the Boys and Girls Club of Siouxland\, one of the Optimist Club&rsquo\;s partners. &nbsp\;Following the ribbon cutting refreshments will be served and you will have the opportunity to see all the good happening at the Boys and Girls Club.</span>
LOCATION:823 Pearl Street The Boys and Girls Club will be hosting this event
UID:e.769.3405
SEQUENCE:3
DTSTAMP:20260419T134759Z
URL:https://directory.siouxlandchamber.com/events/details/ribbon-cutting-the-siouxland-optimist-club-3405
END:VEVENT

END:VCALENDAR
