BEGIN:VCALENDAR
VERSION:2.0
PRODID:-//ChamberMaster//Event Calendar 2.0//EN
METHOD:PUBLISH
X-PUBLISHED-TTL:P3D
REFRESH-INTERVAL:P3D
CALSCALE:GREGORIAN
BEGIN:VEVENT
DTSTART:20171121T220000Z
DTEND:20171121T223000Z
X-MICROSOFT-CDO-ALLDAYEVENT:FALSE
SUMMARY:Ribbon Cutting - The Leather Shack
DESCRIPTION:Just in time for your holiday shopping we will welcome The Leather Shack to the Siouxland Chamber with a ribbon cutting ceremony.  Then spend some time shopping their leather clothing\, jewelry\, and motorcycle accessories.  Hope you can join us!
X-ALT-DESC;FMTTYPE=text/html:Just in time for your holiday shopping we will welcome The Leather Shack to the Siouxland Chamber with a ribbon cutting ceremony.&nbsp\; Then spend some time shopping their leather clothing\, jewelry\, and motorcycle accessories.&nbsp\; Hope you can join us!
LOCATION:1111 Lewis Boulevard Sioux City
UID:e.769.4606
SEQUENCE:3
DTSTAMP:20260420T061414Z
URL:https://directory.siouxlandchamber.com/events/details/ribbon-cutting-the-leather-shack-4606
END:VEVENT

END:VCALENDAR
