BEGIN:VCALENDAR
VERSION:2.0
PRODID:-//ChamberMaster//Event Calendar 2.0//EN
METHOD:PUBLISH
X-PUBLISHED-TTL:P3D
REFRESH-INTERVAL:P3D
CALSCALE:GREGORIAN
BEGIN:VEVENT
DTSTART:20160930T153000Z
DTEND:20160930T160000Z
X-MICROSOFT-CDO-ALLDAYEVENT:FALSE
SUMMARY:Ribbon Cutting - The Greatest Escape
DESCRIPTION:New Chamber Member\, The Greatest Escape\, will celebrate their newly opened business with a Ribbon Cutting.  Please join us in an official Chamber welcome and check out Sioux City's newest form of entertainment where you have sixty minutes to use your wits\, skill\, and brains to solve puzzles\, crack codes\, and find keys that will ultimately aid in your escape.
X-ALT-DESC;FMTTYPE=text/html:New Chamber Member\, The Greatest Escape\, will celebrate their newly opened business with a Ribbon Cutting. &nbsp\;Please join us in an official Chamber welcome and&nbsp\;check out Sioux City&#39\;s newest form of entertainment where you have sixty minutes to use your wits\, skill\, and brains to solve puzzles\, crack codes\, and find keys that will ultimately aid in your escape.&nbsp\;
LOCATION:2540 Glenn Avenue Sioux City
UID:e.769.3260
SEQUENCE:3
DTSTAMP:20260421T130331Z
URL:https://directory.siouxlandchamber.com/events/details/ribbon-cutting-the-greatest-escape-3260
END:VEVENT

END:VCALENDAR
