BEGIN:VCALENDAR
VERSION:2.0
PRODID:-//ChamberMaster//Event Calendar 2.0//EN
METHOD:PUBLISH
X-PUBLISHED-TTL:P3D
REFRESH-INTERVAL:P3D
CALSCALE:GREGORIAN
BEGIN:VEVENT
DTSTART:20200901T150000Z
DTEND:20200901T153000Z
X-MICROSOFT-CDO-ALLDAYEVENT:FALSE
SUMMARY:Ribbon Cutting - The Gospel Mission Thrift Store South Sioux City
DESCRIPTION:Join us for a Ribbon Cutting celebrating new Siouxland Chamber of Commerce member\, the Gospel Mission Thrift Store - South Sioux City.\n\n\n\nThe thrift store will be offering 20% off for the entire day on September 1.
X-ALT-DESC;FMTTYPE=text/html:Join us for a Ribbon Cutting celebrating new Siouxland Chamber of Commerce member\, the Gospel Mission Thrift Store - South Sioux City.<br />\n<br />\nThe thrift store will be offering 20% off for the entire day on September 1.&nbsp\;
LOCATION:1901 Cornhusker Drive South Sioux City\, NE 68776
UID:e.769.5400
SEQUENCE:3
DTSTAMP:20260421T105400Z
URL:https://directory.siouxlandchamber.com/events/details/ribbon-cutting-the-gospel-mission-thrift-store-south-sioux-city-5400
END:VEVENT

END:VCALENDAR
