BEGIN:VCALENDAR
VERSION:2.0
PRODID:-//ChamberMaster//Event Calendar 2.0//EN
METHOD:PUBLISH
X-PUBLISHED-TTL:P3D
REFRESH-INTERVAL:P3D
CALSCALE:GREGORIAN
BEGIN:VEVENT
DTSTART:20160824T150000Z
DTEND:20160824T153000Z
X-MICROSOFT-CDO-ALLDAYEVENT:FALSE
SUMMARY:Ribbon Cutting - The First Tee of Siouxland
DESCRIPTION:The Siouxland Chamber will welcome new member\, The First Tee of Siouxland\, with a ribbon cutting ceremony to be held at Sun Valley Golf Course.  The First Tee provides character-building education to youth ages 7-17 through the game of golf.  With a curriculum developed by experts in the field of positive youth development and delivered by trained coaches\, participants learn to apply life skills and transfer positive values of golf to everyday life.
X-ALT-DESC;FMTTYPE=text/html:<span style="font-size:14px\;">The Siouxland Chamber will welcome new member\,&nbsp\;The First Tee of Siouxland\, with a ribbon cutting ceremony to be held at Sun Valley Golf Course. &nbsp\;<span style="color: rgb(68\, 68\, 68)\; line-height: 27px\; background-color: rgb(255\, 255\, 255)\;">The First Tee provides character-building education to youth ages 7-17 through the game of golf.</span>&nbsp\; With a curriculum developed by experts in the field of positive youth development and delivered by trained coaches\, participants learn to apply life skills and transfer positive values of golf to everyday life.</span>
LOCATION:Sun Valley Golf Course 2101 Military Road Sioux City
UID:e.769.3303
SEQUENCE:3
DTSTAMP:20260421T143808Z
URL:https://directory.siouxlandchamber.com/events/details/ribbon-cutting-the-first-tee-of-siouxland-08-24-2016-3303
END:VEVENT

END:VCALENDAR
