BEGIN:VCALENDAR
VERSION:2.0
PRODID:-//ChamberMaster//Event Calendar 2.0//EN
METHOD:PUBLISH
X-PUBLISHED-TTL:P3D
REFRESH-INTERVAL:P3D
CALSCALE:GREGORIAN
BEGIN:VEVENT
DTSTART:20180207T220000Z
DTEND:20180207T223000Z
X-MICROSOFT-CDO-ALLDAYEVENT:FALSE
SUMMARY:Ribbon Cutting - The Dogwood Pet Hotel & Day Spa
DESCRIPTION:The Dogwood Pet Hotel & Day Spa will introduce their new dog training program\, Levels Training\, at their upcoming ribbon cutting.  This program is the only one of its kind in the area and will let customers attend class on the night that works best in the schedule and not require weekly attendance.  Please join us at the event to learn more\, see demonstrations\, get a tour\, and enter a drawing for a free punch card.
X-ALT-DESC;FMTTYPE=text/html:The Dogwood Pet Hotel &amp\; Day Spa will introduce their new dog training program\, Levels Training\, at their upcoming ribbon cutting.&nbsp\; This program is the only one of its kind in the area and will let customers attend class on the night that works best in the schedule and not require weekly attendance.&nbsp\; Please join us at the event to learn more\, see demonstrations\, get a tour\, and enter a drawing for a free punch card.
LOCATION:1200 Northshore Drive North Sioux City\, SD
UID:e.769.4646
SEQUENCE:3
DTSTAMP:20260420T105611Z
URL:https://directory.siouxlandchamber.com/events/details/ribbon-cutting-the-dogwood-pet-hotel-day-spa-4646
END:VEVENT

END:VCALENDAR
