BEGIN:VCALENDAR
VERSION:2.0
PRODID:-//ChamberMaster//Event Calendar 2.0//EN
METHOD:PUBLISH
X-PUBLISHED-TTL:P3D
REFRESH-INTERVAL:P3D
CALSCALE:GREGORIAN
BEGIN:VEVENT
DTSTART:20220504T210000Z
DTEND:20220504T213000Z
X-MICROSOFT-CDO-ALLDAYEVENT:FALSE
SUMMARY:Ribbon Cutting - The Bekins Luxury Lofts
DESCRIPTION:Join us in welcoming The Bekins Luxury Lofts to the Siouxland Chamber!\n\n\n\nInside and out\, Bekins Lofts in Sioux City offers exceptional comforts and modern features in a convenient location. Enjoy classic style loft living in a choice of one-and-two bedroom floor plans. Bekins Lofts is the result of repurposing the historic Bekins Van and Storage Building into modern living spaces. Totally renovated in 2018\, every step has been taken to ensure your comfort and security.
X-ALT-DESC;FMTTYPE=text/html:Join us in welcoming The Bekins Luxury Lofts to the Siouxland Chamber!<br />\n<br />\nInside and out\, Bekins Lofts in Sioux City offers exceptional comforts and modern features in a convenient location. Enjoy classic style loft living in a choice of one-and-two bedroom floor plans. Bekins Lofts is the result of repurposing the historic Bekins Van and Storage Building into modern living spaces. Totally renovated in 2018\, every step has been taken to ensure your comfort and security.&nbsp\;
LOCATION:301 Wesley Pkwy Sioux City\, IA 51103
UID:e.769.5776
SEQUENCE:3
DTSTAMP:20260420T054106Z
URL:https://directory.siouxlandchamber.com/events/details/ribbon-cutting-the-bekins-luxury-lofts-5776
END:VEVENT

END:VCALENDAR
