BEGIN:VCALENDAR
VERSION:2.0
PRODID:-//ChamberMaster//Event Calendar 2.0//EN
METHOD:PUBLISH
X-PUBLISHED-TTL:P3D
REFRESH-INTERVAL:P3D
CALSCALE:GREGORIAN
BEGIN:VEVENT
DTSTART:20180508T210000Z
DTEND:20180508T213000Z
X-MICROSOFT-CDO-ALLDAYEVENT:FALSE
SUMMARY:Ribbon Cutting - Table 32
DESCRIPTION:Please attend the upcoming Ribbon Cutting to welcome new member and new restaurant\, Table 32.  Following the Ribbon Cutting they will have complimentary appetizers and you can also take advantage of their happy hour menu.\n\n\n\nTable 32 is focused on real ingredients and hand crafting them into something truly delicious!  Guests enjoy a fun and relaxing dining experience in the amazing vintage backdrop of the old Creamery building from the early 1900's.  We hope you can join us and acquaint yourself with the amazing food and drink and the decor.
X-ALT-DESC;FMTTYPE=text/html:Please attend the upcoming Ribbon Cutting to welcome new member and new restaurant\, Table 32.&nbsp\; Following the Ribbon Cutting they will have complimentary appetizers and you can also take advantage of their happy hour menu.<br />\n<br />\nTable 32 is focused on real ingredients and hand crafting them into something truly delicious!&nbsp\; Guests enjoy a fun and relaxing dining experience in the amazing vintage backdrop of the old Creamery building from the early 1900&#39\;s.&nbsp\; We hope you can join us and acquaint yourself with the amazing food and drink and the decor.
LOCATION:100 Virginia Street Sioux City
UID:e.769.4708
SEQUENCE:3
DTSTAMP:20260420T145417Z
URL:https://directory.siouxlandchamber.com/events/details/ribbon-cutting-table-32-4708
END:VEVENT

END:VCALENDAR
