BEGIN:VCALENDAR
VERSION:2.0
PRODID:-//ChamberMaster//Event Calendar 2.0//EN
METHOD:PUBLISH
X-PUBLISHED-TTL:P3D
REFRESH-INTERVAL:P3D
CALSCALE:GREGORIAN
BEGIN:VEVENT
DTSTART:20170607T213000Z
DTEND:20170607T223000Z
X-MICROSOFT-CDO-ALLDAYEVENT:FALSE
SUMMARY:Ribbon Cutting - Swedean & Company
DESCRIPTION:Help us welcome Swedean & Company to the Chamber at their upcoming ribbon cutting that will be held jointly with Pulse Marketing.  Food and drinks will be served at an open house event from 5:00 to 7:00 PM.  \n\n\n\nSwedean & Company can manage your accounting needs both for your business and your personal financial issues.  Join us to hear all about their services and visit with Tim Swedean and his team at the open house following the ceremony.
X-ALT-DESC;FMTTYPE=text/html:Help us welcome Swedean &amp\; Company to the Chamber at their upcoming ribbon cutting that will be held jointly with Pulse Marketing. &nbsp\;Food and drinks will be served at an open house event from 5:00 to 7:00 PM. &nbsp\;<br />\n<br />\nSwedean &amp\; Company can manage your accounting needs both for your business and your personal financial issues. &nbsp\;Join us to hear all about their services and visit with Tim Swedean and his team at the open house following the ceremony.&nbsp\;
LOCATION:663 North Derby Lane\, Suite D North Sioux City\, SD
UID:e.769.3469
SEQUENCE:3
DTSTAMP:20260419T230535Z
URL:https://directory.siouxlandchamber.com/events/details/ribbon-cutting-swedean-company-3469
END:VEVENT

END:VCALENDAR
