BEGIN:VCALENDAR
VERSION:2.0
PRODID:-//ChamberMaster//Event Calendar 2.0//EN
METHOD:PUBLISH
X-PUBLISHED-TTL:P3D
REFRESH-INTERVAL:P3D
CALSCALE:GREGORIAN
BEGIN:VEVENT
DTSTART:20160804T210000Z
DTEND:20160804T213000Z
X-MICROSOFT-CDO-ALLDAYEVENT:FALSE
SUMMARY:Ribbon Cutting - Sunny Radio
DESCRIPTION:Sunny Radio will celebrate the opening of their new Sioux City office with a ribbon cutting with hotdogs and beverages to follow.  Come welcome John and Heidi Small to Sioux City and learn about their all 80's radio station!
X-ALT-DESC;FMTTYPE=text/html:Sunny Radio will celebrate the opening of their new Sioux City office with a ribbon cutting with hotdogs and beverages to follow. &nbsp\;Come welcome John and Heidi Small to Sioux City and learn about their all 80&#39\;s radio station!
LOCATION:Springboard Coworking 700 4th Street\, Suite 210 Sioux City
UID:e.769.3317
SEQUENCE:3
DTSTAMP:20260421T161232Z
URL:https://directory.siouxlandchamber.com/events/details/ribbon-cutting-sunny-radio-08-04-2016-3317
END:VEVENT

END:VCALENDAR
