BEGIN:VCALENDAR
VERSION:2.0
PRODID:-//ChamberMaster//Event Calendar 2.0//EN
METHOD:PUBLISH
X-PUBLISHED-TTL:P3D
REFRESH-INTERVAL:P3D
CALSCALE:GREGORIAN
BEGIN:VEVENT
DTSTART:20160715T150000Z
DTEND:20160715T153000Z
X-MICROSOFT-CDO-ALLDAYEVENT:FALSE
SUMMARY:Ribbon Cutting - Summit Mobile
DESCRIPTION:Summit Mobile LLC has joined the Chamber and will celebrate with a ribbon cutting ceremony.  Summit Mobile is an Authorized Dealer for Cricket Wireless and works to stand out from other cell phone companies by giving you affordably priced cell phone plans and a high-quality\, reliable network with a no annual contract prepaid phone and plan.  Please join us in welcoming Summit Mobile to the Chamber.
X-ALT-DESC;FMTTYPE=text/html:Summit Mobile LLC&nbsp\;<span style="font-size:14px\;"><span style="font-family:tahoma\;">has joined the Chamber and will celebrate with a ribbon cutting ceremony. &nbsp\;Summit Mobile is an Authorized Dealer for Cricket Wireless and&nbsp\;<span style="line-height: 17.1429px\;">works to stand out from other cell phone companies by giving you affordably priced&nbsp\;cell phone plans&nbsp\;and a high-quality\, reliable network with a no annual contract prepaid phone</span><span style="line-height: 17.1429px\;">&nbsp\;and </span><span style="line-height: 17.1429px\;">plan. &nbsp\;Please join us in welcoming Summit Mobile to the Chamber.</span></span></span>
LOCATION:820 Hamilton Boulevard Sioux City
UID:e.769.3298
SEQUENCE:3
DTSTAMP:20260421T155609Z
URL:https://directory.siouxlandchamber.com/events/details/ribbon-cutting-summit-mobile-07-15-2016-3298
END:VEVENT

END:VCALENDAR
