BEGIN:VCALENDAR
VERSION:2.0
PRODID:-//ChamberMaster//Event Calendar 2.0//EN
METHOD:PUBLISH
X-PUBLISHED-TTL:P3D
REFRESH-INTERVAL:P3D
CALSCALE:GREGORIAN
BEGIN:VEVENT
DTSTART:20180411T133000Z
DTEND:20180411T140000Z
X-MICROSOFT-CDO-ALLDAYEVENT:FALSE
SUMMARY:Ribbon Cutting - Sugal Consulting
DESCRIPTION:Sugal Consulting will receive the Green Coat welcome at a ribbon cutting ceremony to celebrate their new membership.  Sugal Consulting provides interpreting and translating services\, individual income tax services\, works with newcomer and refugee agencies in Siouxland\, and integrates diverse communities in the Siouxland area.  We hope you can join us!
X-ALT-DESC;FMTTYPE=text/html:Sugal Consulting will receive the Green Coat welcome at a ribbon cutting ceremony to celebrate their new membership.&nbsp\; Sugal&nbsp\;Consulting provides interpreting and translating services\, individual income tax services\, works with newcomer and refugee agencies in Siouxland\, and integrates diverse communities in the Siouxland&nbsp\;area.&nbsp\; We hope you can join us!
LOCATION:3900 Dakota Avenue\, Suite 11 South Sioux City\, NE
UID:e.769.4663
SEQUENCE:3
DTSTAMP:20260420T145928Z
URL:https://directory.siouxlandchamber.com/events/details/ribbon-cutting-sugal-consulting-4663
END:VEVENT

END:VCALENDAR
