BEGIN:VCALENDAR
VERSION:2.0
PRODID:-//ChamberMaster//Event Calendar 2.0//EN
METHOD:PUBLISH
X-PUBLISHED-TTL:P3D
REFRESH-INTERVAL:P3D
CALSCALE:GREGORIAN
BEGIN:VEVENT
DTSTART:20230130T223000Z
DTEND:20230130T230000Z
X-MICROSOFT-CDO-ALLDAYEVENT:FALSE
SUMMARY:Ribbon Cutting - Strong Auto Detail
DESCRIPTION:Join us as we welcome Strong Auto Detail as a new member and celebrate their first official location. Drake Strong\, Owner of Strong Auto Detail has been growing his business in Siouxland the past five years. He offers interior\, exterior detail cleaning services along with ceramic coating for long lasting protection.
X-ALT-DESC;FMTTYPE=text/html:Join us as we welcome Strong Auto Detail as a new member and celebrate their first official location. Drake Strong\, Owner of Strong Auto Detail has been growing his business in Siouxland the past five years. He offers interior\, exterior detail cleaning services along with ceramic coating for long lasting protection.&nbsp\;
LOCATION:3240 31st Street Unit 102 Sioux City\, IA 51105
UID:e.769.5958
SEQUENCE:3
DTSTAMP:20260419T170027Z
URL:https://directory.siouxlandchamber.com/events/details/ribbon-cutting-strong-auto-detail-5958
END:VEVENT

END:VCALENDAR
