BEGIN:VCALENDAR
VERSION:2.0
PRODID:-//ChamberMaster//Event Calendar 2.0//EN
METHOD:PUBLISH
X-PUBLISHED-TTL:P3D
REFRESH-INTERVAL:P3D
CALSCALE:GREGORIAN
BEGIN:VEVENT
DTSTART:20180531T200000Z
DTEND:20180531T203000Z
X-MICROSOFT-CDO-ALLDAYEVENT:FALSE
SUMMARY:Ribbon Cutting - StoneyBrook Suites - Assisted Living
DESCRIPTION:StoneyBrook Suites - Assisted Living invites you to their Grand Reveal of recent renovations when they host an Open House from 2:00 - 4:00 PM with a 3:00 PM Ribbon Cutting.  They will unveil many new features including a coffee shop\, theater\, and updated suites.  Come take a look and enter to win their door prize\, a limited edition\, 3-D Inukshuk sculpture.
X-ALT-DESC;FMTTYPE=text/html:StoneyBrook Suites - Assisted Living invites you to their Grand Reveal of recent renovations when they host an Open House from 2:00 - 4:00 PM with a 3:00 PM Ribbon Cutting.&nbsp\; They will unveil many new features including a coffee shop\, theater\, and updated suites.&nbsp\; Come take a look and enter to win their door prize\, a limited edition\, 3-D Inukshuk&nbsp\;sculpture.
LOCATION:301 Dakota Dunes Boulevard Dakota Dunes\, SD
UID:e.769.4710
SEQUENCE:3
DTSTAMP:20260420T163812Z
URL:https://directory.siouxlandchamber.com/events/details/ribbon-cutting-stoneybrook-suites-assisted-living-4710
END:VEVENT

END:VCALENDAR
