BEGIN:VCALENDAR
VERSION:2.0
PRODID:-//ChamberMaster//Event Calendar 2.0//EN
METHOD:PUBLISH
X-PUBLISHED-TTL:P3D
REFRESH-INTERVAL:P3D
CALSCALE:GREGORIAN
BEGIN:VEVENT
DTSTART:20171022T164500Z
DTEND:20171022T171500Z
X-MICROSOFT-CDO-ALLDAYEVENT:FALSE
SUMMARY:Ribbon Cutting - Stone Bru\, Dakota Dunes
DESCRIPTION:Stone Bru is celebrating its Grand Opening at their new Dakota Dunes location.  An 11:45 AM Ribbon Cutting will officially open the doors to an afternoon of FREE coffee\, food sampling\, games\, and United Way fundraising until 6:00 PM.  Please join us for the fun!
X-ALT-DESC;FMTTYPE=text/html:Stone Bru is celebrating its Grand Opening at their new Dakota Dunes location.&nbsp\; An 11:45 AM Ribbon Cutting will officially open the doors to an afternoon of FREE coffee\, food sampling\, games\, and United Way fundraising until 6:00 PM.&nbsp\; Please join us for the fun!
LOCATION:400 Gold Circle Dakota Dunes\, SD
UID:e.769.4595
SEQUENCE:3
DTSTAMP:20260420T061548Z
URL:https://directory.siouxlandchamber.com/events/details/ribbon-cutting-stone-bru-dakota-dunes-4595
END:VEVENT

END:VCALENDAR
