BEGIN:VCALENDAR
VERSION:2.0
PRODID:-//ChamberMaster//Event Calendar 2.0//EN
METHOD:PUBLISH
X-PUBLISHED-TTL:P3D
REFRESH-INTERVAL:P3D
CALSCALE:GREGORIAN
BEGIN:VEVENT
DTSTART:20171013T160000Z
DTEND:20171013T163000Z
X-MICROSOFT-CDO-ALLDAYEVENT:FALSE
SUMMARY:Ribbon Cutting - STEMM
DESCRIPTION:We will welcome new Chamber member\, STEMM\, with a Ribbon Cutting and Open House until 12:00 PM.  They will tell about their ongoing mission to provide spiritual growth\, medical care\, and educational opportunities to the children of Tanzania.  Also\, learn about their upcoming 20th Annual Auction "A Night of Hope"\, being held on Thursday\, October 26th at the HIlton Garden Inn.  You can register at the following link:  http://stemm.org/event/20th-annual-night-hope-auction/
X-ALT-DESC;FMTTYPE=text/html:We will welcome new Chamber member\, STEMM\, with a Ribbon Cutting and Open House until 12:00 PM. &nbsp\;They will tell about their ongoing mission to provide spiritual growth\, medical care\, and educational opportunities to the children of Tanzania. &nbsp\;Also\, learn about their upcoming 20th Annual Auction &quot\;A Night of Hope&quot\;\, being held on Thursday\, October 26th at the HIlton Garden Inn. &nbsp\;You can register at the following link: &nbsp\;<a href="http://stemm.org/event/20th-annual-night-hope-auction/">http://stemm.org/event/20th-annual-night-hope-auction/</a>&nbsp\;
LOCATION:518 Nebraska Street Sioux City
UID:e.769.4590
SEQUENCE:3
DTSTAMP:20260420T043908Z
URL:https://directory.siouxlandchamber.com/events/details/ribbon-cutting-stemm-4590
END:VEVENT

END:VCALENDAR
