BEGIN:VCALENDAR
VERSION:2.0
PRODID:-//ChamberMaster//Event Calendar 2.0//EN
METHOD:PUBLISH
X-PUBLISHED-TTL:P3D
REFRESH-INTERVAL:P3D
CALSCALE:GREGORIAN
BEGIN:VEVENT
DTSTART:20241115T180000Z
DTEND:20241115T183000Z
X-MICROSOFT-CDO-ALLDAYEVENT:FALSE
SUMMARY:Ribbon Cutting - Starlight Traveling
DESCRIPTION:Join us as we celebrate the grand opening of Starlight Traveling and welcome them as a new Chamber member! \n\n\n\nAt Starlight Traveling\, their mission is to transform your travel dreams into reality. They are committed to providing exceptional customer service\, leveraging their extensive industry knowledge and partnerships to deliver the best travel experiences. Whether you're planning a relaxing beach getaway\, an adventurous journey\, or a business trip\, they handle every detail with care and precision to ensure a smooth and enjoyable travel experience.
X-ALT-DESC;FMTTYPE=text/html:Join us as we celebrate the grand opening of Starlight Traveling and welcome them as a new Chamber member!&nbsp\;<br />\n<br />\nAt Starlight Traveling\, their mission is to transform your travel dreams into reality. They are committed to providing exceptional customer service\, leveraging their extensive industry knowledge and partnerships to deliver the best travel experiences. Whether you&#39\;re planning a relaxing beach getaway\, an adventurous journey\, or a business trip\, they handle every detail with care and precision to ensure a smooth and enjoyable travel experience.<br />\n&nbsp\;
LOCATION:Siouxland Chamber of Commerce 101 Pierce Street Sioux City\, IA 51101
UID:e.769.6446
SEQUENCE:3
DTSTAMP:20260422T173601Z
URL:https://directory.siouxlandchamber.com/events/details/ribbon-cutting-starlight-traveling-6446
END:VEVENT

END:VCALENDAR
